BEGIN:VCALENDAR
VERSION:2.0
PRODID:-//Society for the Anthropology of Consciousness - ECPv6.15.20//NONSGML v1.0//EN
CALSCALE:GREGORIAN
METHOD:PUBLISH
X-ORIGINAL-URL:https://sac.americananthro.org
X-WR-CALDESC:Events for Society for the Anthropology of Consciousness
REFRESH-INTERVAL;VALUE=DURATION:PT1H
X-Robots-Tag:noindex
X-PUBLISHED-TTL:PT1H
BEGIN:VTIMEZONE
TZID:America/New_York
BEGIN:DAYLIGHT
TZOFFSETFROM:-0500
TZOFFSETTO:-0400
TZNAME:EDT
DTSTART:20230312T070000
END:DAYLIGHT
BEGIN:STANDARD
TZOFFSETFROM:-0400
TZOFFSETTO:-0500
TZNAME:EST
DTSTART:20231105T060000
END:STANDARD
BEGIN:DAYLIGHT
TZOFFSETFROM:-0500
TZOFFSETTO:-0400
TZNAME:EDT
DTSTART:20240310T070000
END:DAYLIGHT
BEGIN:STANDARD
TZOFFSETFROM:-0400
TZOFFSETTO:-0500
TZNAME:EST
DTSTART:20241103T060000
END:STANDARD
BEGIN:DAYLIGHT
TZOFFSETFROM:-0500
TZOFFSETTO:-0400
TZNAME:EDT
DTSTART:20250309T070000
END:DAYLIGHT
BEGIN:STANDARD
TZOFFSETFROM:-0400
TZOFFSETTO:-0500
TZNAME:EST
DTSTART:20251102T060000
END:STANDARD
END:VTIMEZONE
BEGIN:VEVENT
DTSTART;TZID=America/New_York:20240406T090000
DTEND;TZID=America/New_York:20240410T170000
DTSTAMP:20260420T194748
CREATED:20231008T112443Z
LAST-MODIFIED:20231113T111856Z
UID:10000035-1712394000-1712768400@sac.americananthro.org
SUMMARY:Spring 2024 Annual Meeting
DESCRIPTION:Society for the Anthropology of Consciousness 41st Annual ConferenceEmbassy Suites by Hilton St. Louis ~ St. Charles HotelTwo Convention Center Plaza\, St. Charles\, MO 63303 \nThe Program Committee for the Society for the Anthropology of Consciousness invites members and their collaborators to investigate how we engage with themes of darkness and/or light. Our theme and meeting dates were chosen to coincide with the total solar eclipse\, which will come to North America on April 8\, 2024. According to space.com\, “A total solar eclipse happens when the moon appears the same size in the sky as the sun\, or slightly larger\, so fully covers the disk of the sun\, giving observers a view of the sun’s outer atmosphere\, the corona” (https://www.space.com/41552-total-solar-eclipse-2024-guide.html). This event provides opportunities for making connections between consciousness and experiences of lightness and darkness in an array of forms\, from literal to metaphorical. It invites us to consider how light and dark may be conceived as binary and yet include nuances such as crepuscular shadows and normally invisible coronal elements. Contributors are invited to draw on a wide range of topics\, including\, for example\, lived experiences of ritual and other collective awakenings\, oppression or privilege\, (in/ex)clusivity\, and healing. We also consider this conference an opportunity to build networks for collective engagement\, restorative practices\, healing\, and reconciliation.\n\nNOTE: We also accept papers that do not directly fit the theme. \nWe welcome works that explore indigenous and/or plant-based practices that might provide transformational learning and opportunities for collective action. We also welcome members\, collaborators\, and those new to the conference to engage in discussions related to exploring consciousness in all lived experiences\, both human and non-human consciousness. We are also interested in hearing voices representing BIPoC\, post-colonial\, and other marginalized perspectives (such as those based on gender\, sexuality\, class\, ability\, age\, etc.) \n\nClick here to See the full 2024 Annual Meeting Call for Papers.
URL:https://sac.americananthro.org/event/spring-2024-annual-meeting/
LOCATION:Embassy Suites by Hilton St. Louis ~ St. Charles Hotel\, Two Convention Center Plaza\,\, St. Charles\, MO\, 63303\, United States
CATEGORIES:Conference
END:VEVENT
END:VCALENDAR