BEGIN:VCALENDAR
VERSION:2.0
PRODID:-//Society for the Anthropology of Consciousness - ECPv6.15.20//NONSGML v1.0//EN
CALSCALE:GREGORIAN
METHOD:PUBLISH
X-ORIGINAL-URL:https://sac.americananthro.org
X-WR-CALDESC:Events for Society for the Anthropology of Consciousness
REFRESH-INTERVAL;VALUE=DURATION:PT1H
X-Robots-Tag:noindex
X-PUBLISHED-TTL:PT1H
BEGIN:VTIMEZONE
TZID:America/Vancouver
BEGIN:DAYLIGHT
TZOFFSETFROM:-0800
TZOFFSETTO:-0700
TZNAME:PDT
DTSTART:20220313T100000
END:DAYLIGHT
BEGIN:STANDARD
TZOFFSETFROM:-0700
TZOFFSETTO:-0800
TZNAME:PST
DTSTART:20221106T090000
END:STANDARD
BEGIN:DAYLIGHT
TZOFFSETFROM:-0800
TZOFFSETTO:-0700
TZNAME:PDT
DTSTART:20230312T100000
END:DAYLIGHT
BEGIN:STANDARD
TZOFFSETFROM:-0700
TZOFFSETTO:-0800
TZNAME:PST
DTSTART:20231105T090000
END:STANDARD
BEGIN:DAYLIGHT
TZOFFSETFROM:-0800
TZOFFSETTO:-0700
TZNAME:PDT
DTSTART:20240310T100000
END:DAYLIGHT
BEGIN:STANDARD
TZOFFSETFROM:-0700
TZOFFSETTO:-0800
TZNAME:PST
DTSTART:20241103T090000
END:STANDARD
END:VTIMEZONE
BEGIN:VEVENT
DTSTART;TZID=America/Vancouver:20230505T120000
DTEND;TZID=America/Vancouver:20230505T133000
DTSTAMP:20260421T053039
CREATED:20230429T132604Z
LAST-MODIFIED:20241028T165159Z
UID:10000029-1683288000-1683293400@sac.americananthro.org
SUMMARY:Psychedelic Renaissance? What’s the Buzz? with Lisa Gezon
DESCRIPTION:Join Professor Lisa Gezon (University of Alabama\, Birmingham) on a conversation about shifting conversations about psychedelics and their uses in contemporary contexts for self-actualization\, mental health therapy\, and other forms of ritual and healing. How do experiences vary based on demographics and geography? Are experiences of traditionally marginalized populations different in any noteworthy ways? What do anthropologists have to contribute to that interdisciplinary conversation? Gezon will begin with an overview of her current research on psychedelic integration groups. This topic is a preview of conversations we hope to continue at the AAA in November.
URL:https://sac.americananthro.org/event/psychedelic-renaissance-whats-the-buzz-with-lisa-gezon/
LOCATION:Zoom\, United States
CATEGORIES:Conference
END:VEVENT
END:VCALENDAR