BEGIN:VCALENDAR
VERSION:2.0
PRODID:-//Society for the Anthropology of Consciousness - ECPv6.15.20//NONSGML v1.0//EN
CALSCALE:GREGORIAN
METHOD:PUBLISH
X-WR-CALNAME:Society for the Anthropology of Consciousness
X-ORIGINAL-URL:https://sac.americananthro.org
X-WR-CALDESC:Events for Society for the Anthropology of Consciousness
REFRESH-INTERVAL;VALUE=DURATION:PT1H
X-Robots-Tag:noindex
X-PUBLISHED-TTL:PT1H
BEGIN:VTIMEZONE
TZID:America/Vancouver
BEGIN:DAYLIGHT
TZOFFSETFROM:-0800
TZOFFSETTO:-0700
TZNAME:PDT
DTSTART:20210314T100000
END:DAYLIGHT
BEGIN:STANDARD
TZOFFSETFROM:-0700
TZOFFSETTO:-0800
TZNAME:PST
DTSTART:20211107T090000
END:STANDARD
BEGIN:DAYLIGHT
TZOFFSETFROM:-0800
TZOFFSETTO:-0700
TZNAME:PDT
DTSTART:20220313T100000
END:DAYLIGHT
BEGIN:STANDARD
TZOFFSETFROM:-0700
TZOFFSETTO:-0800
TZNAME:PST
DTSTART:20221106T090000
END:STANDARD
BEGIN:DAYLIGHT
TZOFFSETFROM:-0800
TZOFFSETTO:-0700
TZNAME:PDT
DTSTART:20230312T100000
END:DAYLIGHT
BEGIN:STANDARD
TZOFFSETFROM:-0700
TZOFFSETTO:-0800
TZNAME:PST
DTSTART:20231105T090000
END:STANDARD
END:VTIMEZONE
BEGIN:VEVENT
DTSTART;TZID=America/Vancouver:20221104T120000
DTEND;TZID=America/Vancouver:20221104T133000
DTSTAMP:20260421T182555
CREATED:20220325T094213Z
LAST-MODIFIED:20220325T163346Z
UID:10000024-1667563200-1667568600@sac.americananthro.org
SUMMARY:Student Mentoring\, Q&A
DESCRIPTION:Students and folks on the job market\, please bring your questions about school\, writing\, job application questions\, and any other questions that you feel could help you prepare both professionally and academically. \nGraduates and Faculty\, please consider attending this event that supports future and young scholars. \nRegistration is required. \nRegistration closes on the Thursday before the event at 5:00 Pacific Time. \nPlease register for these events at aocgeneral@gmail.com
URL:https://sac.americananthro.org/event/student-mentoring-qa/2022-11-04/
LOCATION:Zoom\, United States
CATEGORIES:First Fridays
ATTACH;FMTTYPE=image/png:https://sac.americananthro.org/wp-content/uploads/2022/03/first-friday-e1648198136424.png
END:VEVENT
END:VCALENDAR